BEGIN:VCALENDAR
VERSION:2.0
PRODID:-//Pratumarnusorn - ECPv4.6.16//NONSGML v1.0//EN
CALSCALE:GREGORIAN
METHOD:PUBLISH
X-WR-CALNAME:Pratumarnusorn
X-ORIGINAL-URL:https://pratumarnusorn.ac.th
X-WR-CALDESC:Events for Pratumarnusorn
BEGIN:VEVENT
DTSTART;TZID=UTC+7:20250110T080000
DTEND;TZID=UTC+7:20250110T170000
DTSTAMP:20260426T023212
CREATED:20241101T055758Z
LAST-MODIFIED:20241101T055758Z
UID:14145-1736496000-1736528400@pratumarnusorn.ac.th
SUMMARY:กิจกรรมวันเด็ก
DESCRIPTION:
URL:https://pratumarnusorn.ac.th/event/%e0%b8%81%e0%b8%b4%e0%b8%88%e0%b8%81%e0%b8%a3%e0%b8%a3%e0%b8%a1%e0%b8%a7%e0%b8%b1%e0%b8%99%e0%b9%80%e0%b8%94%e0%b9%87%e0%b8%81-4/
END:VEVENT
END:VCALENDAR