BEGIN:VCALENDAR
VERSION:2.0
PRODID:-//Pratumarnusorn - ECPv4.6.16//NONSGML v1.0//EN
CALSCALE:GREGORIAN
METHOD:PUBLISH
X-WR-CALNAME:Pratumarnusorn
X-ORIGINAL-URL:https://pratumarnusorn.ac.th
X-WR-CALDESC:Events for Pratumarnusorn
BEGIN:VEVENT
DTSTART;TZID=UTC+7:20241223T080000
DTEND;TZID=UTC+7:20250101T170000
DTSTAMP:20260426T022029
CREATED:20241101T055444Z
LAST-MODIFIED:20241101T055444Z
UID:14141-1734940800-1735750800@pratumarnusorn.ac.th
SUMMARY:หยุดเทศกาลปีใหม่
DESCRIPTION:
URL:https://pratumarnusorn.ac.th/event/%e0%b8%ab%e0%b8%a2%e0%b8%b8%e0%b8%94%e0%b9%80%e0%b8%97%e0%b8%a8%e0%b8%81%e0%b8%b2%e0%b8%a5%e0%b8%9b%e0%b8%b5%e0%b9%83%e0%b8%ab%e0%b8%a1%e0%b9%88-4/
END:VEVENT
END:VCALENDAR