BEGIN:VCALENDAR
VERSION:2.0
PRODID:-//Pratumarnusorn - ECPv4.6.16//NONSGML v1.0//EN
CALSCALE:GREGORIAN
METHOD:PUBLISH
X-WR-CALNAME:Pratumarnusorn
X-ORIGINAL-URL:https://pratumarnusorn.ac.th
X-WR-CALDESC:Events for Pratumarnusorn
BEGIN:VEVENT
DTSTART;TZID=UTC+7:20250102T080000
DTEND;TZID=UTC+7:20250102T170000
DTSTAMP:20260426T022159
CREATED:20241101T055506Z
LAST-MODIFIED:20241101T055506Z
UID:14143-1735804800-1735837200@pratumarnusorn.ac.th
SUMMARY:เปิดเรียนตามปกติ
DESCRIPTION:
URL:https://pratumarnusorn.ac.th/event/%e0%b9%80%e0%b8%9b%e0%b8%b4%e0%b8%94%e0%b9%80%e0%b8%a3%e0%b8%b5%e0%b8%a2%e0%b8%99%e0%b8%95%e0%b8%b2%e0%b8%a1%e0%b8%9b%e0%b8%81%e0%b8%95%e0%b8%b4/
END:VEVENT
END:VCALENDAR